{"text_format":"1","workbook":"xlsx","n_sheets":3,"sheets":["form","data","بخشنامه "],"not_rendered":{"charts":0,"images":1,"macros":1,"external_links":0,"defined_names":2,"comments":0,"pivot_tables":0},"unopened":[],"bounds":{"document_bytes":16777216,"sheet_cells":100000,"rows_first":2000,"rows_last":500,"rows_between":2000,"halvings":0,"cell_chars":16384,"cell_head_chars":4096},"cells_cut":0,"cells_raw":0,"read":"whole","date_system":"1900"}

{"sheet":"form","index":0,"n_rows":27,"n_cols":31,"rows_kept":27,"cut":false,"hidden":false,"merged":[[21,26,21,27],[23,26,23,27],[0,34,3,37],[5,34,5,37],[19,14,19,21],[3,30,3,32],[11,14,11,27],[19,22,19,25],[10,1,10,27],[5,23,5,27],[8,1,8,27],[9,23,9,27],[2,30,2,32],[3,1,3,5],[7,1,7,10],[7,18,7,22],[14,26,14,27],[19,26,19,27],[17,14,17,21],[17,22,17,25],[20,26,20,27],[12,1,12,8],[12,14,12,21],[12,22,12,25],[12,26,12,27],[13,14,13,21],[13,22,13,25],[13,26,13,27],[13,1,27,13],[18,14,18,21],[22,14,22,21],[22,22,22,25],[21,14,21,21],[23,14,23,21],[21,22,21,25],[23,22,23,25],[1,30,1,32],[0,30,0,32],[1,18,1,20],[1,21,1,24],[1,25,1,27],[0,1,0,27],[1,1,1,6],[1,13,1,17],[1,7,1,12],[26,22,27,25],[26,26,27,27],[26,14,27,21],[24,14,24,21],[24,22,24,25],[24,26,24,27],[25,14,25,21],[25,22,25,25],[25,26,25,27],[9,1,9,22],[16,14,16,21],[16,22,16,25],[16,26,16,27],[15,14,15,21],[11,1,11,13],[5,1,5,7],[5,8,5,10],[5,11,5,14],[5,15,5,17],[5,18,5,22],[2,1,2,27],[3,24,3,27],[3,20,3,23],[3,10,3,16],[4,1,4,27],[3,6,3,9],[22,30,22,32],[17,26,17,27],[20,14,20,21],[20,22,20,25],[4,30,18,32],[19,30,21,32],[22,26,22,27],[18,22,18,25],[18,26,18,27],[7,11,7,17],[6,1,6,27],[15,22,15,25],[15,26,15,27],[7,23,7,27],[14,14,14,21],[14,22,14,25]]}
[null,"ورود اطلاعات قرارداد کارگری سال 1404 (موقت و دائم)",null,null,null,null,null,null,null,null,null,null,null,null,null,null,null,null,null,null,null,null,null,null,null,null,null,null,null,1,"کانال پیام رسان بله را دنبال کنید:"]
[null,"دستمزد پایه سال قبل:",null,null,null,null,null,111872790,null,null,null,null,null,"وضعیت تأهل:",null,null,null,null,"مجرد",null,null,"تعداد فرزندان:",null,null,null,0,null,null,null,"bank1404","https://ble.ir/farhani_El"]
[]
[null,"مزد سنوات سال قبل:",null,null,null,null,0,null,null,null,"مدت سابقه کار در سال قبل به روز:",null,null,null,null,null,null,30,"ماه:",11,"پایه سنوات سال قبل:",null,null,null,0,null,null,null,null,null,"راهنمای استفاده از فایل:"]
[null,null,null,null,null,null,null,null,null,null,null,null,null,null,null,null,null,null,null,null,null,null,null,null,null,null,null,null,null,null,"1- این فایل برای بهره برداری در شهرداری های استان خوزستان طراحی شده است. \n2- برای محاسبه حقوق قسمت های سبز رنگ را تکمیل کنید.\n3- محاسبه حقوق کارگران مطابق بخشنامه مزد سال 1405 بر اساس اطلاعات وارد شده به صورت خودکار صورت می گیرد.\n4- مبنای محاسبه پایه سنوات در این فایل مدت اشتغال در سال قبل می باشد، چنانچه کارگر یک سال کامل مشغول بکار نبوده است، مدت دقیق را به ماه و روز وارد کنید، در غیر اینصورت پایه سنوات به ازای یک سال کامل (11 ماه و 30 روز) محاسبه خواهد شد.\n\n"]
[null,"محرومیت از تسهیلات زندگی:",null,null,null,null,null,null,"ندارد",null,null,"مدرک تحصیلی:",null,null,null,"دیپلم",null,null,"مزایای ایثارگری سال قبل:",null,null,null,null,0]
[]
[null,"مابه التفاوت سال قبل:",null,null,null,null,null,null,null,null,null,0,null,null,null,null,null,null,"درصد حق جذب:",null,null,null,null,20]
[]
[null,"مشمول فوق العاده ماده ۵۱  قانون جامع ایثارگران هستید؟\nجانبازان بیست و پنج درصد (۲۵ %) و بالاتر و آزادگان، همسران و فرزندان شهدا",null,null,null,null,null,null,null,null,null,null,null,null,null,null,null,null,null,null,null,null,null,"خیر"]
[null,"میزان افزایش حقوق در قرارداد کارگری سال 1405"]
[null,{"$f":"\" نوع قرارداد : \"&VLOOKUP(AD1,INDIRECT(AD2),10,FALSE)","v":" نوع قرارداد : افزایش دستمزد و عائله مندی"},null,null,null,null,null,null,null,null,null,null,null,null,"حقوق و فوق العاده"]
[null,"شرح قرارداد : ",null,null,null,null,null,null,null,null,null,null,null,null,"الف: دستمزد پایه",null,null,null,null,null,null,null,{"$f":"VLOOKUP(AD1,INDIRECT(AD2),12,FALSE)","v":177802020},null,null,null,"ریال"]
[null,{"$f":"VLOOKUP(AD1,INDIRECT(AD2),11,FALSE)","v":" باستناد بخشنامه شماره 6682 مورخ 1405/01/31 وزارت تعاون، کار و رفاه اجتماعی، دستمزد و مزایا بشرح زیر افزایش و قابل پرداخت می باشد:\n1- افزایش 45% به مزد شغل (به اضافه 519549 ریال روزانه ).\n2- افزایش 45% به سایر عناصر.\n3- افزایش کمک هزینه حق اولاد به میزان 3 برابر (حداقل مزد روزانه به مبلغ 5,541,850 ریال) برای هر فرزند.\n4- افزایش پایه سنوات روزانه مبلغ 166667 ریال.\n5- کمک هزینه حق تأهل 5000000 ریال.\n6- کمک هزینه اقلام مصرفی خانوار 22000000 ریال.\n7- حق مسکن کارگران اعم از متأهل و مجرد به  میزان 9000000 ریال خواهد بود./"},null,null,null,null,null,null,null,null,null,null,null,null,"ب: مزد سنوات",null,null,null,null,null,null,null,{"$f":"VLOOKUP(AD1,INDIRECT(AD2),13,FALSE)","v":0},null,null,null,"ریال"]
[null,null,null,null,null,null,null,null,null,null,null,null,null,null,"پ: پایه سنوات",null,null,null,null,null,null,null,{"$f":"VLOOKUP(AD1,INDIRECT(AD2),14,FALSE)","v":5000010},null,null,null,"ریال"]
[null,null,null,null,null,null,null,null,null,null,null,null,null,null,"جمع دستمزد و پایه :",null,null,null,null,null,null,null,{"$f":"VLOOKUP(AD1,INDIRECT(AD2),15,FALSE)","v":182802030},null,null,null,"ریال"]
[null,null,null,null,null,null,null,null,null,null,null,null,null,null,"ت: مابه التفاوت",null,null,null,null,null,null,null,{"$f":"VLOOKUP(AD1,INDIRECT(AD2),30,FALSE)","v":0},null,null,null,"ریال"]
[null,null,null,null,null,null,null,null,null,null,null,null,null,null,"ث: کمک هزینه مسکن",null,null,null,null,null,null,null,{"$f":"VLOOKUP(AD1,INDIRECT(AD2),16,FALSE)","v":9000000},null,null,null,"ریال"]
[null,null,null,null,null,null,null,null,null,null,null,null,null,null,"ج: کمک عائله مندی(اولاد)",null,null,null,null,null,null,null,{"$f":"VLOOKUP(AD1,INDIRECT(AD2),17,FALSE)","v":"ـ"},null,null,null,"ریال"]
[null,null,null,null,null,null,null,null,null,null,null,null,null,null,"چ: حق تأهل",null,null,null,null,null,null,null,{"$f":"VLOOKUP(AD1,INDIRECT(AD2),20,FALSE)","v":"ـ"},null,null,null,"ریال"]
[null,null,null,null,null,null,null,null,null,null,null,null,null,null,"ح: بن کارگری",null,null,null,null,null,null,null,{"$f":"VLOOKUP(AD1,INDIRECT(AD2),21,FALSE)","v":22000000},null,null,null,"ریال"]
[null,null,null,null,null,null,null,null,null,null,null,null,null,null,"خ: حق جذب",null,null,null,null,null,null,null,{"$f":"VLOOKUP(AD1,INDIRECT(AD2),22,FALSE)","v":35560404},null,null,null,"ریال"]
[null,null,null,null,null,null,null,null,null,null,null,null,null,null,"د: مزایای ایثارگری",null,null,null,null,null,null,null,{"$f":"VLOOKUP(AD1,INDIRECT(AD2),18,FALSE)","v":"ـ"},null,null,null,"ریال",null,null,null,"https://shenasname.ir/"]
[null,null,null,null,null,null,null,null,null,null,null,null,null,null,"ذ: فوق العاده ایثارگری ماده 51 قانون جامع",null,null,null,null,null,null,null,{"$f":"VLOOKUP(AD1,INDIRECT(AD2),19,FALSE)","v":"ـ"},null,null,null,"ریال"]
[null,null,null,null,null,null,null,null,null,null,null,null,null,null,"ر: فوق العاده محرومیت - بند ث ماده 112",null,null,null,null,null,null,null,{"$f":"VLOOKUP(AD1,INDIRECT(AD2),23,FALSE)","v":0},null,null,null,"ریال"]
[null,null,null,null,null,null,null,null,null,null,null,null,null,null,"ز: فوق العاده محرومیت- بند ج ماده 112",null,null,null,null,null,null,null,{"$f":"VLOOKUP(AD1,INDIRECT(AD2),24,FALSE)","v":0},null,null,null,"ریال"]
[null,null,null,null,null,null,null,null,null,null,null,null,null,null,"جمع کل :",null,null,null,null,null,null,null,{"$f":"VLOOKUP(AD1,INDIRECT(AD2),25,FALSE)","v":249362434},null,null,null,"ریال"]

{"sheet":"data","index":1,"n_rows":4,"n_cols":59,"rows_kept":4,"cut":false,"hidden":true,"merged":[]}
[1,2,3,4,5,6,7,8,9,10,11,12,13,14,15,16,17,18,19,20,21,22,23,24,25,26,27,28,29,30,31,32,33,34,35,36,37,38,39,40,41,42,43,44,45,46,47,48,49,50,51,52,53,54,55,56,57,58,59]
["ردیف","مدرک تحصيلي","جنسيت","گروه ","وضعيت تأهل","تعداد فرزندان","محاسبه تسهیلات","مدت اشتغال سال قبل به روز","مدت اشتغال سال قبل به ماه","نوع قرارداد","شرح حکم","دستمزد پایه","مزد سنوات","پایه سنوات","جمع دستمزد و پایه","مسکن","اولاد","مزایای ایثارگری","فوق العاده ایثارگری ماده 51 قانون جامع","حق تأهل","بن کارگری","حق جذب","تسهیلات","تسهیلات2","جمع","مشمول ماده 51","پایه سنوات 1404","مزد سنوات1404","مزایای ایثارگری 1404","مابه التفاوت",null,"بخشنامه سال",1405]
[1,{"$f":"form!P6","v":"دیپلم"},"مرد",{"$f":"form!H2","v":111872790},{"$f":"form!S2","v":"مجرد"},{"$f":"form!Z2","v":0},{"$f":"form!I6","v":"ندارد"},{"$f":"form!R4","v":30},{"$f":"form!T4","v":11},"افزایش دستمزد و عائله مندی"," باستناد بخشنامه شماره 6682 مورخ 1405/01/31 وزارت تعاون، کار و رفاه اجتماعی، دستمزد و مزایا بشرح زیر افزایش و قابل پرداخت می باشد:\n1- افزایش 45% به مزد شغل (به اضافه 519549 ریال روزانه ).\n2- افزایش 45% به سایر عناصر.\n3- افزایش کمک هزینه حق اولاد به میزان 3 برابر (حداقل مزد روزانه به مبلغ 5,541,850 ریال) برای هر فرزند.\n4- افزایش پایه سنوات روزانه مبلغ 166667 ریال.\n5- کمک هزینه حق تأهل 5000000 ریال.\n6- کمک هزینه اقلام مصرفی خانوار 22000000 ریال.\n7- حق مسکن کارگران اعم از متأهل و مجرد به  میزان 9000000 ریال خواهد بود./",{"$f":"VLOOKUP(bank1404[[#This Row],[گروه ]],bakhshname[],$AG$3,0)","v":177802020},{"$f":"ROUND((bank1404[[#This Row],[مزد سنوات1404]]*VLOOKUP($AG$2,Table3[],7,0)),0)","v":0},{"$f":"ROUND((bank1404[[#This Row],[پایه سنوات 1404]]*VLOOKUP($AG$2,Table3[],7,0))+(((VLOOKUP(bank1404[[#This Row],[گروه ]],bakhshname[],$AG$4,0)/12)/30)*((bank1404[[#This Row],[مدت اشتغال سال قبل به ماه]]*30)+bank1404[[#This Row],[مدت اشتغال سال قبل به روز]])),0)","v":5000010},{"$f":"SUM(bank1404[[#This Row],[دستمزد پایه]:[پایه سنوات]])","v":182802030},{"$f":"VLOOKUP($AG$2,Table3[],2,FALSE)","v":9000000},{"$f":"IF(VLOOKUP($AG$2,Table3[],3,0)*bank1404[[#This Row],[تعداد فرزندان]]=0,\"ـ\",VLOOKUP($AG$2,Table3[],3,0)*bank1404[[#This Row],[تعداد فرزندان]])","v":"ـ"},{"$f":"IF(bank1404[[#This Row],[مزایای ایثارگری 1404]]*VLOOKUP($AG$2,Table3[],7,0)=0,\"ـ\",bank1404[[#This Row],[مزایای ایثارگری 1404]]*VLOOKUP($AG$2,Table3[],7,0))","v":"ـ"},{"$f":"IF(bank1404[[#This Row],[مشمول ماده 51]]=\"بلی\",VLOOKUP($AG$2,Table3[],9,0),\"ـ\")","v":"ـ"},{"$f":"IF(bank1404[[#This Row],[وضعيت تأهل]]=\"متأهل\",VLOOKUP($AG$2,Table3[],8,0),\"ـ\")","v":"ـ"},{"$f":"VLOOKUP($AG$2,Table3[],4,0)","v":22000000},{"$f":"bank1404[[#This Row],[دستمزد پایه]]*VLOOKUP(form!X8,Tablejazb[],2,0)","v":35560404},{"$f":"IF(bank1404[[#This Row],[محاسبه تسهیلات]]=\"دارد\",ROUND(IF(OR(bank1404[[#This Row],[مدرک تحصيلي]]=\"زیر دیپلم\",bank1404[[#This Row],[مدرک تحصيلي]]=\"دیپلم\",bank1404[[#This Row],[مدرک تحصيلي]]=\"فوق دیپلم\",bank1404[[#This Row],[مدرک تحصيلي]]=\"لیسانس\"),(VLOOKUP($AG$2,Table3[],5,0)*20%),IF(OR(bank1404[[#This Row],[مدرک تحصيلي]]=\"فوق لیسانس\",bank1404[[#This Row],[مدرک تحصيلي]]=\"دکتری\"),(VLOOKUP($AG$2,Table3[],5,0)*25%))),0),0)","v":0},{"$f":"IF(bank1404[[#This Row],[محاسبه تسهیلات]]=\"دارد\",ROUND(VLOOKUP($AG$2,Table3[],6,0),0),0)","v":0},{"$f":"ROUND(SUM(bank1404[[#This Row],[جمع دستمزد و پایه]:[تسهیلات2]])+bank1404[[#This Row],[مابه التفاوت]],0)","v":249362434},{"$f":"form!X10","v":"خیر"},{"$f":"form!Y4","v":0},{"$f":"form!G4","v":0},{"$f":"form!X6","v":0},{"$f":"form!L8","v":0},null,"شماره ستون مزد شغل",53]
[null,null,null,null,null,null,null,null,null,null,null,null,null,null,null,null,null,null,null,null,null,null,null,null,null,null,null,null,null,null,null,"شماره ستون پایه سنوات",55]

{"sheet":"بخشنامه ","index":2,"n_rows":75,"n_cols":55,"rows_kept":75,"cut":false,"hidden":true,"merged":[]}
[1,2,3,4,5,6,7,8,9,10,11,12,13,14,15,16,17,18,19,20,21,22,23,24,25,26,27,28,29,30,31,32,33,34,35,36,37,38,39,40,41,42,43,44,45,46,47,48,49,50,51,52,53,54,55]
["گروه","مزد شغل روزانه 90","مزد شغل روزانه 91","مزد شغل ماهانه 91","نرخ پایه سنوات 91","مزد شغل روزانه 92","مزد شغل ماهانه 92","نرخ پایه سنوات 92","مزد شغل روزانه 93","مزد شغل ماهانه 93","نرخ پایه سنوات 93","مزد شغل روزانه 94","مزد شغل ماهانه 94","نرخ پایه سنوات 94","مزد شغل روزانه 95","مزد شغل ماهانه 95","نرخ پایه سنوات 95","مزد شغل روزانه 96","مزد شغل ماهانه 96","نرخ پایه سنوات 96","مزد شغل روزانه 97","مزد شغل ماهانه 97","نرخ پایه سنوات 97","مزد شغل روزانه 98","مزد شغل ماهانه 98","نرخ پایه سنوات 98","مزد شغل روزانه 99","مزد شغل ماهانه 99","نرخ پایه سنوات 99","مزد 99","نرخ پایه سنوات 992","مزد شغل روزانه 1400","مزد شغل ماهانه 1400","نرخ پایه سنوات روزانه 1400 ","نرخ پایه سنوات(ماهانه) 1400","مزد شغل روزانه 1401","مزد شغل ماهانه 1401","نرخ پایه سنوات روزانه 1401","نرخ پایه سنوات(ماهانه) 1401","مزد شغل روزانه 1402","مزد شغل ماهانه 1402","نرخ پایه سنوات روزانه 1402","نرخ پایه سنوات(ماهانه) 1402","مزد شغل روزانه 1403","مزد شغل ماهانه 1403","نرخ پایه سنوات روزانه  1403","نرخ پایه سنوات(ماهانه) 1403","مزد شغل روزانه 1404","مزد شغل ماهانه 1404","نرخ پایه سنوات روزانه  1404","نرخ پایه سنوات(ماهانه) 1404","مزد شغل روزانه 1405","مزد شغل ماهانه 1405","نرخ پایه سنوات روزانه  1405","نرخ پایه سنوات(ماهانه) 1405"]
[111872790,137831,159572,4787160,75000,195014,5850420,90000,239526,7185780,150000,280245,8407350,300000,319479,9584370,300000,364584,10937520,510000,430708,12921240,510000,{"$f":"ROUND(bakhshname[[#This Row],[مزد شغل روزانه 97]]*1.13+87049,0)","v":573749},{"$f":"bakhshname[[#This Row],[مزد شغل روزانه 98]]*30","v":17212470},{"$f":"23333*30","v":699990},715149,21454470,999990,20704470,1749990,983875,29516250,46667,1400010,1529470,45884100,70000,2100000,1934255,58027650,70000,2100000,2589817,77694510,70000,2100000,3729093,111872790,94000,2820000,5926734,177802020,166667,5000010]
[112199040,138966,160787,4823610,78000,196351,5890530,93000,241023,7230690,153000,281996,8459880,306000,321475,9644250,306000,366820,11004600,516000,433177,12995310,516000,{"$f":"ROUND(bakhshname[[#This Row],[مزد شغل روزانه 97]]*1.13+87049,0)","v":576539},{"$f":"bakhshname[[#This Row],[مزد شغل روزانه 98]]*30","v":17296170},{"$f":"23533*30","v":705990},718358,21550740,1005990,20800740,1755990,987915,29637450,46867,1406010,1535050,46051500,70200,2106000,1941005,58230150,70200,2106000,2598052,77941560,70200,2106000,3739968,112199040,94200,2826000,5942499,178274970,166867,5006010]
[112525290,140100,162000,4860000,81000,197685,5930550,96000,242517,7275510,156000,283746,8512380,312000,323470,9704100,312000,369052,11071560,522000,435641,13069230,522000,{"$f":"ROUND(bakhshname[[#This Row],[مزد شغل روزانه 97]]*1.13+87049,0)","v":579323},{"$f":"bakhshname[[#This Row],[مزد شغل روزانه 98]]*30","v":17379690},{"$f":"23733*30","v":711990},721559,21646770,1011990,20896770,1761990,991954,29758620,47067,1412010,1540630,46218900,70400,2112000,1947755,58432650,70400,2112000,2606287,78188610,70400,2112000,3750843,112525290,94400,2832000,5958264,178747920,167067,5012010]
[112851540,141235,163214,4896420,84000,199020,5970600,99000,244012,7320360,159000,285494,8564820,318000,325463,9763890,318000,371288,11138640,528000,438109,13143270,528000,{"$f":"ROUND(bakhshname[[#This Row],[مزد شغل روزانه 97]]*1.13+87049,0)","v":582112},{"$f":"bakhshname[[#This Row],[مزد شغل روزانه 98]]*30","v":17463360},{"$f":"23933*30","v":717990},724767,21743010,1017990,20993010,1767990,995994,29879820,47267,1418010,1546210,46386300,70600,2118000,1954505,58635150,70600,2118000,2614522,78435660,70600,2118000,3761718,112851540,94600,2838000,5974029,179220870,167267,5018010]
[113177790,142370,164429,4932870,87000,200357,6010710,102000,245510,7365300,162000,287246,8617380,324000,327460,9823800,324000,373523,11205690,534000,440577,13217310,534000,{"$f":"ROUND(bakhshname[[#This Row],[مزد شغل روزانه 97]]*1.13+87049,0)","v":584901},{"$f":"bakhshname[[#This Row],[مزد شغل روزانه 98]]*30","v":17547030},{"$f":"24133*30","v":723990},727767,21839220,1023990,21089220,1773990,1000033,30000990,47467,1424010,1551790,46553700,70800,2124000,1961255,58837650,70800,2124000,2622757,78682710,70800,2124000,3772593,113177790,94800,2844000,5989794,179693820,167467,5024010]
[113612790,143882,166047,4981410,90000,202137,6064110,105000,247503,7425090,165000,289578,8687340,330000,330119,9903570,330000,376501,11295030,540000,443865,13315950,540000,{"$f":"ROUND(bakhshname[[#This Row],[مزد شغل روزانه 97]]*1.13+87049,0)","v":588616},{"$f":"bakhshname[[#This Row],[مزد شغل روزانه 98]]*30","v":17658480},{"$f":"24333*30","v":729990},732246,21967380,1029990,21217380,1779990,1005419,30162570,47667,1430010,1559230,46776900,71000,2130000,1970255,59107650,71000,2130000,2633737,79012110,71000,2130000,3787093,113612790,95000,2850000,6010814,180324420,167667,5030010]
[114047790,145397,167668,5030040,93000,203920,6117600,108000,249500,7485000,168000,291915,8757450,336000,332783,9983490,336000,379485,11384550,546000,447159,13414770,546000,{"$f":"ROUND(bakhshname[[#This Row],[مزد شغل روزانه 97]]*1.13+87049,0)","v":592339},{"$f":"bakhshname[[#This Row],[مزد شغل روزانه 98]]*30","v":17770170},{"$f":"24533*30","v":735990},736528,22095840,1035990,21345840,1785990,1010805,30324150,47867,1436010,1566670,47000100,71200,2136000,1979255,59377650,71200,2136000,2644717,79341510,71200,2136000,3801593,114047790,95200,2856000,6031834,180955020,167867,5036010]
[114482790,146908,169285,5078550,96000,205699,6170970,111000,251493,7544790,171000,294246,8827380,342000,335440,10063200,342000,382461,11473830,552000,450444,13513320,552000,{"$f":"ROUND(bakhshname[[#This Row],[مزد شغل روزانه 97]]*1.13+87049,0)","v":596051},{"$f":"bakhshname[[#This Row],[مزد شغل روزانه 98]]*30","v":17881530},{"$f":"24733*30","v":741990},740797,22223910,1041990,21473910,1791990,1016191,30485730,48067,1442010,1574110,47223300,71400,2142000,1988255,59647650,71400,2142000,2655697,79670910,71400,2142000,3816093,114482790,95400,2862000,6052854,181585620,168067,5042010]
[115026540,148801,171310,5139300,99000,207926,6237780,114000,253987,7619610,174000,297166,8914980,348000,338769,10163070,348000,386187,11585610,558000,454558,13636740,558000,{"$f":"ROUND(bakhshname[[#This Row],[مزد شغل روزانه 97]]*1.13+87049,0)","v":600700},{"$f":"bakhshname[[#This Row],[مزد شغل روزانه 98]]*30","v":18021000},{"$f":"24933*30","v":747990},746143,22384290,1047990,21634290,1797990,1022924,30687720,48267,1448010,1583410,47502300,71600,2148000,1999505,59985150,71600,2148000,2669422,80082660,71600,2148000,3834218,115026540,95600,2868000,6079129,182373870,168267,5048010]
[115570290,150690,173331,5199930,102000,210149,6304470,117000,256477,7694310,177000,300078,9002340,354000,342089,10262670,354000,389908,11697240,564000,458666,13759980,564000,{"$f":"ROUND(bakhshname[[#This Row],[مزد شغل روزانه 97]]*1.13+87049,0)","v":605342},{"$f":"bakhshname[[#This Row],[مزد شغل روزانه 98]]*30","v":18160260},{"$f":"25133*30","v":753990},751481,22544430,1053990,21794430,1803990,1029656,30889680,48467,1454010,1592710,47781300,71800,2154000,2010755,60322650,71800,2154000,2683147,80494410,71800,2154000,3852343,115570290,95800,2874000,6105404,183162120,168467,5054010]
[116222790,152961,175761,5272830,105000,212822,6384660,120000,259471,7784130,180000,303581,9107430,360000,346082,10382460,360000,394380,11831400,570000,463603,13908090,570000,{"$f":"ROUND(bakhshname[[#This Row],[مزد شغل روزانه 97]]*1.13+87049,0)","v":610920},{"$f":"bakhshname[[#This Row],[مزد شغل روزانه 98]]*30","v":18327600},{"$f":"25333*30","v":759990},757896,22736880,1059990,21986880,1809990,1037735,31132050,48667,1460010,1603870,48116100,72000,2160000,2024255,60727650,72000,2160000,2699617,80988510,72000,2160000,3874093,116222790,96000,2880000,6136934,184108020,168667,5060010]
[116875290,155230,178189,5345670,111000,215493,6464790,126000,262462,7873860,186000,307080,9212400,372000,350071,10502130,372000,398848,11965440,582000,468536,14056080,582000,{"$f":"ROUND(bakhshname[[#This Row],[مزد شغل روزانه 97]]*1.13+87049,0)","v":616495},{"$f":"bakhshname[[#This Row],[مزد شغل روزانه 98]]*30","v":18494850},{"$f":"25733*30","v":771990},764307,22929210,1071990,22179210,1821990,1045814,31374420,49067,1472010,1615030,48450900,72400,2172000,2037755,61132650,72400,2172000,2716087,81482610,72400,2172000,3895843,116875290,96400,2892000,6168464,185053920,169067,5072010]
[117527790,157501,180619,5418570,117000,218166,6544980,132000,265456,7963680,192000,310583,9317490,384000,354065,10621950,384000,403321,12099630,594000,473474,14204220,594000,{"$f":"ROUND(bakhshname[[#This Row],[مزد شغل روزانه 97]]*1.13+87049,0)","v":622075},{"$f":"bakhshname[[#This Row],[مزد شغل روزانه 98]]*30","v":18662250},{"$f":"26133*30","v":783990},770724,23121720,1083990,22371720,1833990,1053893,31616790,49467,1484010,1626190,48785700,72800,2184000,2051255,61537650,72800,2184000,2732557,81976710,72800,2184000,3917593,117527790,96800,2904000,6199994,185999820,169467,5084010]
[118397790,160527,183857,5515710,123000,221728,6651840,138000,269445,8083350,198000,315250,9457500,396000,359385,10781550,396000,409279,12278370,606000,480052,14401560,606000,{"$f":"ROUND(bakhshname[[#This Row],[مزد شغل روزانه 97]]*1.13+87049,0)","v":629508},{"$f":"bakhshname[[#This Row],[مزد شغل روزانه 98]]*30","v":18885240},{"$f":"26533*30","v":795990},779272,23378160,1095990,22628160,1845990,1064665,31939950,49867,1496010,1641070,49232100,73200,2196000,2069255,62077650,73200,2196000,2754517,82635510,73200,2196000,3946593,118397790,97200,2916000,6242034,187261020,169867,5096010]
[119267790,163552,187094,5612820,129000,225288,6758640,144000,273433,8202990,204000,319916,9597480,408000,364704,10941120,408000,415236,12457080,618000,486628,14598840,618000,{"$f":"ROUND(bakhshname[[#This Row],[مزد شغل روزانه 97]]*1.13+87049,0)","v":636939},{"$f":"bakhshname[[#This Row],[مزد شغل روزانه 98]]*30","v":19108170},{"$f":"26933*30","v":807990},787818,23634540,1107990,22884540,1857990,1075437,32263110,50267,1508010,1655950,49678500,73600,2208000,2087255,62617650,73600,2208000,2776477,83294310,73600,2208000,3975593,119267790,97600,2928000,6284074,188522220,170267,5108010]
[120137790,166578,190331,5709930,135000,228849,6865470,150000,277421,8322630,210000,324582,9737460,420000,370023,11100690,420000,421194,12635820,630000,493206,14796180,630000,{"$f":"ROUND(bakhshname[[#This Row],[مزد شغل روزانه 97]]*1.13+87049,0)","v":644372},{"$f":"bakhshname[[#This Row],[مزد شغل روزانه 98]]*30","v":19331160},{"$f":"27333*30","v":819990},796366,23890980,1119990,23140980,1869990,1086209,32586270,50667,1520010,1670830,50124900,74000,2220000,2105255,63157650,74000,2220000,2798437,83953110,74000,2220000,4004593,120137790,98000,2940000,6326114,189783420,170667,5120010]
[]
[]
[]
[1,2,3,4,5,6,7,8]
["سال","حق مسکن","حق اولا 1 فرزند","بن کالا","حد اقل حقوق","ضریب حقوق کارمندان*عدد 300","افزایش سایر سطوح","حق تاهل( عائله مندی)","فوق العاده ایثارگری ماده 51 قانون جامع"]
[91,100000,389700,350000]
[92,100000,487125,350000]
[93,200000,608910,800000]
[94,400000,712425,1100000]
[95,400000,812166,1100000]
[96,400000,929931,1100000]
[97,400000,1111269,1100000]
[98,1000000,1516882,1900000,15168810,{"$f":"2120*200","v":424000}]
[99,3000000,1910427,4000000,19104270,487600]
[1400,4500000,2655495,6000000,26554950,609600,1.26]
[1401,5500000,4179750,8500000,41797500,1005900,1.38]
[1402,9000000,5308284,11000000,53082840,1207200,1.21]
[1403,9000000,7166184,14000000,71661840,1448700,1.22,5000000,8897400]
[1404,9000000,10390968,22000000,103909680,1738500,1.32,5000000,10676880]
[1405,9000000,16625550,22000000,166255500,2086200,1.45,5000000,12812256]
[]
[]
[]
[]
[]
[null,"تعداد فرزندان","وضعیت تأهل","مدرک تحصیلی","محرومیت از تسهیلات زندگی","سابقه کار به روز","سابقه کار به ماه"]
["bank1400",0,"مجرد","زیر دیپلم","دارد",0,0]
["bank1401",1,"متأهل","دیپلم","ندارد",1,1]
["bank1402",2,null,"فوق دیپلم",null,2,2]
["bank1403",3,null,"لیسانس","ماده 51",3,3]
["bank1404",4,null,"فوق لیسانس","خیر",4,4]
["bank1405",5,null,"دکتری","بلی",5,5]
["bank1406",6,null,null,null,6,6]
["bank1407",7,"عدد","درصد حق جذب",null,7,7]
["bank1408",null,20,0.2,null,8,8]
["bank1409",null,24,0.24,null,9,9]
["bank1410",null,27,0.27,null,10,10]
[null,null,30,0.3,null,11,11]
[null,null,null,null,null,12]
[null,null,null,null,null,13]
[null,null,null,null,null,14]
[null,null,null,null,null,15]
[null,null,null,null,null,16]
[null,null,null,null,null,17]
[null,null,null,null,null,18]
[null,null,null,null,null,19]
[null,null,null,null,null,20]
[null,null,null,null,null,21]
[null,null,null,null,null,22]
[null,null,null,null,null,23]
[null,null,null,null,null,24]
[null,null,null,null,null,25]
[null,null,null,null,null,26]
[null,null,null,null,null,27]
[null,null,null,null,null,28]
[null,null,null,null,null,29]
[null,null,null,null,null,30]